BEGIN:VCALENDAR
VERSION:2.0
PRODID:-//jEvents 2.0 for Joomla//EN
CALSCALE:GREGORIAN
METHOD:PUBLISH
BEGIN:VTIMEZONE
TZID:Europe/Zurich
BEGIN:STANDARD
DTSTART:20171029T020000
RDATE:20180325T030000
TZOFFSETFROM:+0200
TZOFFSETTO:+0100
TZNAME:Europe/Zurich CET
END:STANDARD
BEGIN:STANDARD
DTSTART:20181028T020000
RDATE:20190331T030000
TZOFFSETFROM:+0200
TZOFFSETTO:+0100
TZNAME:Europe/Zurich CET
END:STANDARD
BEGIN:STANDARD
DTSTART:20191027T020000
RDATE:20200329T030000
TZOFFSETFROM:+0200
TZOFFSETTO:+0100
TZNAME:Europe/Zurich CET
END:STANDARD
BEGIN:STANDARD
DTSTART:20201025T020000
RDATE:20210328T030000
TZOFFSETFROM:+0200
TZOFFSETTO:+0100
TZNAME:Europe/Zurich CET
END:STANDARD
BEGIN:STANDARD
DTSTART:20211031T020000
RDATE:20220327T030000
TZOFFSETFROM:+0200
TZOFFSETTO:+0100
TZNAME:Europe/Zurich CET
END:STANDARD
BEGIN:STANDARD
DTSTART:20221030T020000
RDATE:20230326T030000
TZOFFSETFROM:+0200
TZOFFSETTO:+0100
TZNAME:Europe/Zurich CET
END:STANDARD
BEGIN:STANDARD
DTSTART:20231029T020000
RDATE:20240331T030000
TZOFFSETFROM:+0200
TZOFFSETTO:+0100
TZNAME:Europe/Zurich CET
END:STANDARD
BEGIN:STANDARD
DTSTART:20241027T020000
RDATE:20250330T030000
TZOFFSETFROM:+0200
TZOFFSETTO:+0100
TZNAME:Europe/Zurich CET
END:STANDARD
BEGIN:STANDARD
DTSTART:20251026T020000
RDATE:20260329T030000
TZOFFSETFROM:+0200
TZOFFSETTO:+0100
TZNAME:Europe/Zurich CET
END:STANDARD
BEGIN:STANDARD
DTSTART:20261025T020000
RDATE:20270328T030000
TZOFFSETFROM:+0200
TZOFFSETTO:+0100
TZNAME:Europe/Zurich CET
END:STANDARD
BEGIN:STANDARD
DTSTART:20271031T020000
RDATE:20280326T030000
TZOFFSETFROM:+0200
TZOFFSETTO:+0100
TZNAME:Europe/Zurich CET
END:STANDARD
BEGIN:STANDARD
DTSTART:20281029T020000
RDATE:20290325T030000
TZOFFSETFROM:+0200
TZOFFSETTO:+0100
TZNAME:Europe/Zurich CET
END:STANDARD
BEGIN:STANDARD
DTSTART:20291028T020000
RDATE:20300331T030000
TZOFFSETFROM:+0200
TZOFFSETTO:+0100
TZNAME:Europe/Zurich CET
END:STANDARD
BEGIN:STANDARD
DTSTART:20301027T020000
RDATE:20310330T030000
TZOFFSETFROM:+0200
TZOFFSETTO:+0100
TZNAME:Europe/Zurich CET
END:STANDARD
BEGIN:DAYLIGHT
DTSTART:20170608T050000
RDATE:20171029T020000
TZOFFSETFROM:+0100
TZOFFSETTO:+0200
TZNAME:Europe/Zurich CEST
END:DAYLIGHT
BEGIN:DAYLIGHT
DTSTART:20180325T030000
RDATE:20181028T020000
TZOFFSETFROM:+0100
TZOFFSETTO:+0200
TZNAME:Europe/Zurich CEST
END:DAYLIGHT
BEGIN:DAYLIGHT
DTSTART:20190331T030000
RDATE:20191027T020000
TZOFFSETFROM:+0100
TZOFFSETTO:+0200
TZNAME:Europe/Zurich CEST
END:DAYLIGHT
BEGIN:DAYLIGHT
DTSTART:20200329T030000
RDATE:20201025T020000
TZOFFSETFROM:+0100
TZOFFSETTO:+0200
TZNAME:Europe/Zurich CEST
END:DAYLIGHT
BEGIN:DAYLIGHT
DTSTART:20210328T030000
RDATE:20211031T020000
TZOFFSETFROM:+0100
TZOFFSETTO:+0200
TZNAME:Europe/Zurich CEST
END:DAYLIGHT
BEGIN:DAYLIGHT
DTSTART:20220327T030000
RDATE:20221030T020000
TZOFFSETFROM:+0100
TZOFFSETTO:+0200
TZNAME:Europe/Zurich CEST
END:DAYLIGHT
BEGIN:DAYLIGHT
DTSTART:20230326T030000
RDATE:20231029T020000
TZOFFSETFROM:+0100
TZOFFSETTO:+0200
TZNAME:Europe/Zurich CEST
END:DAYLIGHT
BEGIN:DAYLIGHT
DTSTART:20240331T030000
RDATE:20241027T020000
TZOFFSETFROM:+0100
TZOFFSETTO:+0200
TZNAME:Europe/Zurich CEST
END:DAYLIGHT
BEGIN:DAYLIGHT
DTSTART:20250330T030000
RDATE:20251026T020000
TZOFFSETFROM:+0100
TZOFFSETTO:+0200
TZNAME:Europe/Zurich CEST
END:DAYLIGHT
BEGIN:DAYLIGHT
DTSTART:20260329T030000
RDATE:20261025T020000
TZOFFSETFROM:+0100
TZOFFSETTO:+0200
TZNAME:Europe/Zurich CEST
END:DAYLIGHT
BEGIN:DAYLIGHT
DTSTART:20270328T030000
RDATE:20271031T020000
TZOFFSETFROM:+0100
TZOFFSETTO:+0200
TZNAME:Europe/Zurich CEST
END:DAYLIGHT
BEGIN:DAYLIGHT
DTSTART:20280326T030000
RDATE:20281029T020000
TZOFFSETFROM:+0100
TZOFFSETTO:+0200
TZNAME:Europe/Zurich CEST
END:DAYLIGHT
BEGIN:DAYLIGHT
DTSTART:20290325T030000
RDATE:20291028T020000
TZOFFSETFROM:+0100
TZOFFSETTO:+0200
TZNAME:Europe/Zurich CEST
END:DAYLIGHT
BEGIN:DAYLIGHT
DTSTART:20300331T030000
RDATE:20301027T020000
TZOFFSETFROM:+0100
TZOFFSETTO:+0200
TZNAME:Europe/Zurich CEST
END:DAYLIGHT
END:VTIMEZONE
BEGIN:VEVENT
UID:545f838497b37bd6418cf664b8e32d1e
CATEGORIES:Plauschturniere
CREATED:20180105T105044
SUMMARY:Lumberjacks Cup 2018
LOCATION:Rohrdorf
URL;VALUE=URI:https://swiss-1291.ch/events/Eventdetail/58/-/lumberjacks-cup-2018?tmpl=com
 ponent
DESCRIPTION:Kategorie: Herren Großfeld\nDatum: 09. / 10. Juni 2018\nAustragungsorte: Ro
 hrdorf, Bayern \nAusrichter: Lumberjacks Rohrdorf\nTeilnahmegebühr: 190 Eur
 o + 10 Euro pro Spieler (inkl. Grillfest-Menü). Da 2018 nur in einer Halle 
 gespielt wird, können 10 Mannschaften antreten (darunter maximal 4 Teams au
 s der Schweiz).\nAnmeldeschluss: 31. März 2018\nVerpflegung: In der Halle g
 ibt es einen Verkaufsstand. Dort sind Getränke, Brotzeit, Kuchen, Obst sowi
 e Süßigkeiten erhältlich.\nVersicherung: Alle Teilnehmer müssen sich selbst
  um ihren Versicherungsschutz kümmern. Der Ausrichter des Turniers bietet k
 einen solchen an und ist nicht haftbar im Falle von Verletzungen, Krankheit
 , Diebstahl oder Sachbeschädigung.\n Dieser Event wurde importiert von: htt
 ps://swiss-1291.ch/events/Eventdetail/58/-/lumberjacks-cup-2018?tmpl=compon
 ent (https://swiss-1291.ch/events/Eventdetail/58/-/lumberjacks-cup-2018?tmp
 l=component)
X-ALT-DESC;FMTTYPE=text/html:<p style="margin: 5px 0px 15px; padding: 0px; color: #666666; font-family: 
 Tahoma, Arial, sans-serif; font-size: 12.8px;"><span style="font-family: ar
 ial, helvetica, sans-serif;"><strong><span style="font-size: 10pt;">Kategor
 ie</span></strong><span style="font-size: 10pt;">:&nbsp;Herren Großfeld</sp
 an></span></p><p style="margin: 0px 0px 15px; padding: 0px; color: #666666;
  font-family: Tahoma, Arial, sans-serif; font-size: 12.8px;"><span style="f
 ont-family: arial, helvetica, sans-serif;"><strong><span style="font-size: 
 10pt;">Datum</span></strong><span style="font-size: 10pt;">: 09. / 10. Juni
  2018</span></span></p><p style="margin: 0px 0px 15px; padding: 0px; color:
  #666666; font-family: Tahoma, Arial, sans-serif; font-size: 12.8px;"><span
  style="font-family: arial, helvetica, sans-serif;"><strong><span style="fo
 nt-size: 10pt;">Austragungsorte</span></strong><span style="font-size: 10pt
 ;">: Rohrdorf, Bayern&nbsp;</span></span></p><p style="margin: 0px 0px 15px
 ; padding: 0px; color: #666666; font-family: Tahoma, Arial, sans-serif; fon
 t-size: 12.8px;"><span style="font-family: arial, helvetica, sans-serif;"><
 strong><span style="font-size: 10pt;">Ausrichter</span></strong><span style
 ="font-size: 10pt;">: Lumberjacks Rohrdorf</span></span></p><p style="margi
 n: 0px 0px 15px; padding: 0px; color: #666666; font-family: Tahoma, Arial, 
 sans-serif; font-size: 12.8px;"><span style="font-family: arial, helvetica,
  sans-serif;"><strong><span style="font-size: 10pt;">Teilnahmegebühr</span>
 </strong><span style="font-size: 10pt;">: 190 Euro + 10 Euro pro Spieler (i
 nkl. Grillfest-Menü). Da 2018 nur in einer Halle gespielt wird, können 10 M
 annschaften antreten (darunter maximal 4 Teams aus der Schweiz).</span></sp
 an></p><p style="margin: 0px 0px 15px; padding: 0px; color: #666666; font-f
 amily: Tahoma, Arial, sans-serif; font-size: 12.8px;"><span style="font-fam
 ily: arial, helvetica, sans-serif;"><strong><span style="font-size: 10pt;">
 Anmeldeschluss</span></strong><span style="font-size: 10pt;">: 31. März 201
 8</span></span></p><p style="margin: 0px 0px 15px; padding: 0px; color: #66
 6666; font-family: Tahoma, Arial, sans-serif; font-size: 12.8px;"><strong s
 tyle="font-family: arial, helvetica, sans-serif;"><span style="font-size: 1
 0pt;">Verpflegung</span></strong><span style="font-size: 10pt;">: In der Ha
 lle gibt es einen Verkaufsstand. Dort sind Getränke, Brotzeit, Kuchen, Obst
  sowie Süßigkeiten erhältlich.</span></p><p style="margin: 0px 0px 5px; pad
 ding: 0px; color: #666666; font-family: Tahoma, Arial, sans-serif; font-siz
 e: 12.8px;"><span style="font-family: arial, helvetica, sans-serif;"><stron
 g><span style="font-size: 10pt;">Versicherung</span></strong><span style="f
 ont-size: 10pt;">: Alle Teilnehmer müssen sich selbst um ihren Versicherung
 sschutz kümmern. Der Ausrichter des Turniers bietet keinen solchen an und i
 st nicht haftbar im Falle von Verletzungen, Krankheit, Diebstahl oder Sachb
 eschädigung.</span></span></p> <a href="https://swiss-1291.ch/events/Eventd
 etail/58/-/lumberjacks-cup-2018?tmpl=component">Dieser Event wurde importie
 rt von: https://swiss-1291.ch/events/Eventdetail/58/-/lumberjacks-cup-2018?
 tmpl=component</a>
CONTACT:www.lumberjacks-cup.de
DTSTAMP:20260420T050603
DTSTART;TZID=Europe/Zurich:20180609T050000
DTEND;TZID=Europe/Zurich:20180610T230000
SEQUENCE:0
TRANSP:OPAQUE
END:VEVENT
END:VCALENDAR